BEGIN:VCALENDAR
VERSION:2.0
PRODID:-//City of Humboldt - ECPv6.15.20//NONSGML v1.0//EN
CALSCALE:GREGORIAN
METHOD:PUBLISH
X-WR-CALNAME:City of Humboldt
X-ORIGINAL-URL:https://humboldt.ca
X-WR-CALDESC:Events for City of Humboldt
REFRESH-INTERVAL;VALUE=DURATION:PT1H
X-Robots-Tag:noindex
X-PUBLISHED-TTL:PT1H
BEGIN:VTIMEZONE
TZID:America/Regina
BEGIN:STANDARD
TZOFFSETFROM:-0600
TZOFFSETTO:-0600
TZNAME:CST
DTSTART:20250101T000000
END:STANDARD
END:VTIMEZONE
BEGIN:VEVENT
DTSTART;TZID=America/Regina:20261103T100000
DTEND;TZID=America/Regina:20261103T113000
DTSTAMP:20260423T103427
CREATED:20260112T215119Z
LAST-MODIFIED:20260112T215119Z
UID:32575-1793700000-1793705400@humboldt.ca
SUMMARY:Conversation & Refreshment
DESCRIPTION:Prairie Gateway Settlement Services welcomes everyone for Conversation and Refreshments every Tuesday from 10 a.m. to 11:30 a.m.
URL:https://humboldt.ca/event/conversation-refreshment-55/
LOCATION:Prairie Gateway Settlement Services\, 606 9th Street
ORGANIZER;CN="Prairie Gateway Settlement Services":MAILTO:admin@thehrnc.com
END:VEVENT
BEGIN:VEVENT
DTSTART;TZID=America/Regina:20261107T100000
DTEND;TZID=America/Regina:20261107T130000
DTSTAMP:20260423T103427
CREATED:20260421T153323Z
LAST-MODIFIED:20260421T153323Z
UID:33713-1794045600-1794056400@humboldt.ca
SUMMARY:Humboldt Farmers' Market
DESCRIPTION:Farmers’ Market at Misty Gardens featuring local vendors serving up the best homemade\, home baked\, and home grown products.
URL:https://humboldt.ca/event/humboldt-farmers-market-26/
LOCATION:Misty Gardens\, 534 Bruce St\, Humboldt\, SK\, S0K 2A0\, Canada
END:VEVENT
BEGIN:VEVENT
DTSTART;TZID=America/Regina:20261109T173000
DTEND;TZID=America/Regina:20261109T200000
DTSTAMP:20260423T103427
CREATED:20251217T180343Z
LAST-MODIFIED:20251217T180343Z
UID:32265-1794245400-1794254400@humboldt.ca
SUMMARY:Executive Committee Meeting
DESCRIPTION:
URL:https://humboldt.ca/event/executive-committee-meeting-14/
LOCATION:Council Chambers – City Hall\, 715 Main St.
END:VEVENT
BEGIN:VEVENT
DTSTART;TZID=America/Regina:20261110T100000
DTEND;TZID=America/Regina:20261110T113000
DTSTAMP:20260423T103427
CREATED:20260112T215136Z
LAST-MODIFIED:20260112T215136Z
UID:32577-1794304800-1794310200@humboldt.ca
SUMMARY:Conversation & Refreshment
DESCRIPTION:Prairie Gateway Settlement Services welcomes everyone for Conversation and Refreshments every Tuesday from 10 a.m. to 11:30 a.m.
URL:https://humboldt.ca/event/conversation-refreshment-56/
LOCATION:Prairie Gateway Settlement Services\, 606 9th Street
ORGANIZER;CN="Prairie Gateway Settlement Services":MAILTO:admin@thehrnc.com
END:VEVENT
BEGIN:VEVENT
DTSTART;TZID=America/Regina:20261114T100000
DTEND;TZID=America/Regina:20261114T130000
DTSTAMP:20260423T103427
CREATED:20260421T153335Z
LAST-MODIFIED:20260421T153335Z
UID:33715-1794650400-1794661200@humboldt.ca
SUMMARY:Humboldt Farmers' Market
DESCRIPTION:Farmers’ Market at Misty Gardens featuring local vendors serving up the best homemade\, home baked\, and home grown products.
URL:https://humboldt.ca/event/humboldt-farmers-market-27/
LOCATION:Misty Gardens\, 534 Bruce St\, Humboldt\, SK\, S0K 2A0\, Canada
END:VEVENT
BEGIN:VEVENT
DTSTART;TZID=America/Regina:20261117T100000
DTEND;TZID=America/Regina:20261117T113000
DTSTAMP:20260423T103427
CREATED:20260112T215157Z
LAST-MODIFIED:20260112T215157Z
UID:32579-1794909600-1794915000@humboldt.ca
SUMMARY:Conversation & Refreshment
DESCRIPTION:Prairie Gateway Settlement Services welcomes everyone for Conversation and Refreshments every Tuesday from 10 a.m. to 11:30 a.m.
URL:https://humboldt.ca/event/conversation-refreshment-57/
LOCATION:Prairie Gateway Settlement Services\, 606 9th Street
ORGANIZER;CN="Prairie Gateway Settlement Services":MAILTO:admin@thehrnc.com
END:VEVENT
BEGIN:VEVENT
DTSTART;TZID=America/Regina:20261121T100000
DTEND;TZID=America/Regina:20261121T130000
DTSTAMP:20260423T103427
CREATED:20260421T153348Z
LAST-MODIFIED:20260421T153348Z
UID:33717-1795255200-1795266000@humboldt.ca
SUMMARY:Humboldt Farmers' Market
DESCRIPTION:Farmers’ Market at Misty Gardens featuring local vendors serving up the best homemade\, home baked\, and home grown products.
URL:https://humboldt.ca/event/humboldt-farmers-market-28/
LOCATION:Misty Gardens\, 534 Bruce St\, Humboldt\, SK\, S0K 2A0\, Canada
END:VEVENT
BEGIN:VEVENT
DTSTART;TZID=America/Regina:20261123T173000
DTEND;TZID=America/Regina:20261123T190000
DTSTAMP:20260423T103427
CREATED:20251217T175837Z
LAST-MODIFIED:20251217T175837Z
UID:32243-1795455000-1795460400@humboldt.ca
SUMMARY:Regular City Council Meeting
DESCRIPTION:
URL:https://humboldt.ca/event/regular-city-council-meeting-14/
LOCATION:Council Chambers – City Hall\, 715 Main St.
END:VEVENT
BEGIN:VEVENT
DTSTART;TZID=America/Regina:20261124T100000
DTEND;TZID=America/Regina:20261124T113000
DTSTAMP:20260423T103427
CREATED:20260112T215215Z
LAST-MODIFIED:20260112T215215Z
UID:32581-1795514400-1795519800@humboldt.ca
SUMMARY:Conversation & Refreshment
DESCRIPTION:Prairie Gateway Settlement Services welcomes everyone for Conversation and Refreshments every Tuesday from 10 a.m. to 11:30 a.m.
URL:https://humboldt.ca/event/conversation-refreshment-58/
LOCATION:Prairie Gateway Settlement Services\, 606 9th Street
ORGANIZER;CN="Prairie Gateway Settlement Services":MAILTO:admin@thehrnc.com
END:VEVENT
BEGIN:VEVENT
DTSTART;TZID=America/Regina:20261128T100000
DTEND;TZID=America/Regina:20261128T130000
DTSTAMP:20260423T103427
CREATED:20260421T153409Z
LAST-MODIFIED:20260421T153409Z
UID:33719-1795860000-1795870800@humboldt.ca
SUMMARY:Humboldt Farmers' Market
DESCRIPTION:Farmers’ Market at Misty Gardens featuring local vendors serving up the best homemade\, home baked\, and home grown products.
URL:https://humboldt.ca/event/humboldt-farmers-market-29/
LOCATION:Misty Gardens\, 534 Bruce St\, Humboldt\, SK\, S0K 2A0\, Canada
END:VEVENT
END:VCALENDAR