BEGIN:VCALENDAR
VERSION:2.0
PRODID:-//City of Humboldt - ECPv6.15.20//NONSGML v1.0//EN
CALSCALE:GREGORIAN
METHOD:PUBLISH
X-WR-CALNAME:City of Humboldt
X-ORIGINAL-URL:https://humboldt.ca
X-WR-CALDESC:Events for City of Humboldt
REFRESH-INTERVAL;VALUE=DURATION:PT1H
X-Robots-Tag:noindex
X-PUBLISHED-TTL:PT1H
BEGIN:VTIMEZONE
TZID:America/Regina
BEGIN:STANDARD
TZOFFSETFROM:-0600
TZOFFSETTO:-0600
TZNAME:CST
DTSTART:20250101T000000
END:STANDARD
END:VTIMEZONE
BEGIN:VEVENT
DTSTART;TZID=America/Regina:20260901T100000
DTEND;TZID=America/Regina:20260901T113000
DTSTAMP:20260423T073117
CREATED:20260112T214804Z
LAST-MODIFIED:20260112T214804Z
UID:32557-1788256800-1788262200@humboldt.ca
SUMMARY:Conversation & Refreshment
DESCRIPTION:Prairie Gateway Settlement Services welcomes everyone for Conversation and Refreshments every Tuesday from 10 a.m. to 11:30 a.m.
URL:https://humboldt.ca/event/conversation-refreshment-46/
LOCATION:Prairie Gateway Settlement Services\, 606 9th Street
ORGANIZER;CN="Prairie Gateway Settlement Services":MAILTO:admin@thehrnc.com
END:VEVENT
BEGIN:VEVENT
DTSTART;TZID=America/Regina:20260905T090000
DTEND;TZID=America/Regina:20260905T120000
DTSTAMP:20260423T073117
CREATED:20260421T153054Z
LAST-MODIFIED:20260421T153054Z
UID:33695-1788598800-1788609600@humboldt.ca
SUMMARY:Humboldt Farmers' Market
DESCRIPTION:Farmers’ Market at Misty Gardens featuring local vendors serving up the best homemade\, home baked\, and home grown products.
URL:https://humboldt.ca/event/humboldt-farmers-market-17/
LOCATION:Misty Gardens\, 534 Bruce St\, Humboldt\, SK\, S0K 2A0\, Canada
END:VEVENT
BEGIN:VEVENT
DTSTART;TZID=America/Regina:20260908T100000
DTEND;TZID=America/Regina:20260908T113000
DTSTAMP:20260423T073117
CREATED:20260112T214824Z
LAST-MODIFIED:20260112T214824Z
UID:32559-1788861600-1788867000@humboldt.ca
SUMMARY:Conversation & Refreshment
DESCRIPTION:Prairie Gateway Settlement Services welcomes everyone for Conversation and Refreshments every Tuesday from 10 a.m. to 11:30 a.m.
URL:https://humboldt.ca/event/conversation-refreshment-47/
LOCATION:Prairie Gateway Settlement Services\, 606 9th Street
ORGANIZER;CN="Prairie Gateway Settlement Services":MAILTO:admin@thehrnc.com
END:VEVENT
BEGIN:VEVENT
DTSTART;TZID=America/Regina:20260912T090000
DTEND;TZID=America/Regina:20260912T120000
DTSTAMP:20260423T073117
CREATED:20260421T153109Z
LAST-MODIFIED:20260421T153109Z
UID:33697-1789203600-1789214400@humboldt.ca
SUMMARY:Humboldt Farmers' Market
DESCRIPTION:Farmers’ Market at Misty Gardens featuring local vendors serving up the best homemade\, home baked\, and home grown products.
URL:https://humboldt.ca/event/humboldt-farmers-market-18/
LOCATION:Misty Gardens\, 534 Bruce St\, Humboldt\, SK\, S0K 2A0\, Canada
END:VEVENT
BEGIN:VEVENT
DTSTART;TZID=America/Regina:20260914T173000
DTEND;TZID=America/Regina:20260914T200000
DTSTAMP:20260423T073117
CREATED:20251217T180305Z
LAST-MODIFIED:20251217T180305Z
UID:32261-1789407000-1789416000@humboldt.ca
SUMMARY:Executive Committee Meeting
DESCRIPTION:
URL:https://humboldt.ca/event/executive-committee-meeting-10/
LOCATION:Council Chambers – City Hall\, 715 Main St.
END:VEVENT
BEGIN:VEVENT
DTSTART;TZID=America/Regina:20260915T100000
DTEND;TZID=America/Regina:20260915T113000
DTSTAMP:20260423T073117
CREATED:20260112T214848Z
LAST-MODIFIED:20260112T214848Z
UID:32561-1789466400-1789471800@humboldt.ca
SUMMARY:Conversation & Refreshment
DESCRIPTION:Prairie Gateway Settlement Services welcomes everyone for Conversation and Refreshments every Tuesday from 10 a.m. to 11:30 a.m.
URL:https://humboldt.ca/event/conversation-refreshment-48/
LOCATION:Prairie Gateway Settlement Services\, 606 9th Street
ORGANIZER;CN="Prairie Gateway Settlement Services":MAILTO:admin@thehrnc.com
END:VEVENT
BEGIN:VEVENT
DTSTART;TZID=America/Regina:20260919T090000
DTEND;TZID=America/Regina:20260919T120000
DTSTAMP:20260423T073117
CREATED:20260421T153121Z
LAST-MODIFIED:20260421T153121Z
UID:33699-1789808400-1789819200@humboldt.ca
SUMMARY:Humboldt Farmers' Market
DESCRIPTION:Farmers’ Market at Misty Gardens featuring local vendors serving up the best homemade\, home baked\, and home grown products.
URL:https://humboldt.ca/event/humboldt-farmers-market-19/
LOCATION:Misty Gardens\, 534 Bruce St\, Humboldt\, SK\, S0K 2A0\, Canada
END:VEVENT
BEGIN:VEVENT
DTSTART;TZID=America/Regina:20260922T100000
DTEND;TZID=America/Regina:20260922T113000
DTSTAMP:20260423T073117
CREATED:20260112T214924Z
LAST-MODIFIED:20260112T214924Z
UID:32563-1790071200-1790076600@humboldt.ca
SUMMARY:Conversation & Refreshment
DESCRIPTION:Prairie Gateway Settlement Services welcomes everyone for Conversation and Refreshments every Tuesday from 10 a.m. to 11:30 a.m.
URL:https://humboldt.ca/event/conversation-refreshment-49/
LOCATION:Prairie Gateway Settlement Services\, 606 9th Street
ORGANIZER;CN="Prairie Gateway Settlement Services":MAILTO:admin@thehrnc.com
END:VEVENT
BEGIN:VEVENT
DTSTART;TZID=America/Regina:20260926T090000
DTEND;TZID=America/Regina:20260926T120000
DTSTAMP:20260423T073117
CREATED:20260421T153134Z
LAST-MODIFIED:20260421T153134Z
UID:33701-1790413200-1790424000@humboldt.ca
SUMMARY:Humboldt Farmers' Market
DESCRIPTION:Farmers’ Market at Misty Gardens featuring local vendors serving up the best homemade\, home baked\, and home grown products.
URL:https://humboldt.ca/event/humboldt-farmers-market-20/
LOCATION:Misty Gardens\, 534 Bruce St\, Humboldt\, SK\, S0K 2A0\, Canada
END:VEVENT
BEGIN:VEVENT
DTSTART;TZID=America/Regina:20260928T173000
DTEND;TZID=America/Regina:20260928T190000
DTSTAMP:20260423T073117
CREATED:20251217T175756Z
LAST-MODIFIED:20251217T175756Z
UID:32239-1790616600-1790622000@humboldt.ca
SUMMARY:Regular City Council Meeting
DESCRIPTION:
URL:https://humboldt.ca/event/regular-city-council-meeting-12/
LOCATION:Council Chambers – City Hall\, 715 Main St.
END:VEVENT
BEGIN:VEVENT
DTSTART;TZID=America/Regina:20260929T100000
DTEND;TZID=America/Regina:20260929T113000
DTSTAMP:20260423T073117
CREATED:20260112T214943Z
LAST-MODIFIED:20260112T214943Z
UID:32565-1790676000-1790681400@humboldt.ca
SUMMARY:Conversation & Refreshment
DESCRIPTION:Prairie Gateway Settlement Services welcomes everyone for Conversation and Refreshments every Tuesday from 10 a.m. to 11:30 a.m.
URL:https://humboldt.ca/event/conversation-refreshment-50/
LOCATION:Prairie Gateway Settlement Services\, 606 9th Street
ORGANIZER;CN="Prairie Gateway Settlement Services":MAILTO:admin@thehrnc.com
END:VEVENT
END:VCALENDAR