BEGIN:VCALENDAR
VERSION:2.0
PRODID:-//City of Humboldt - ECPv6.15.20//NONSGML v1.0//EN
CALSCALE:GREGORIAN
METHOD:PUBLISH
X-WR-CALNAME:City of Humboldt
X-ORIGINAL-URL:https://humboldt.ca
X-WR-CALDESC:Events for City of Humboldt
REFRESH-INTERVAL;VALUE=DURATION:PT1H
X-Robots-Tag:noindex
X-PUBLISHED-TTL:PT1H
BEGIN:VTIMEZONE
TZID:America/Regina
BEGIN:STANDARD
TZOFFSETFROM:-0600
TZOFFSETTO:-0600
TZNAME:CST
DTSTART:20250101T000000
END:STANDARD
END:VTIMEZONE
BEGIN:VEVENT
DTSTART;TZID=America/Regina:20260801T090000
DTEND;TZID=America/Regina:20260801T120000
DTSTAMP:20260423T055346
CREATED:20260421T152928Z
LAST-MODIFIED:20260421T152928Z
UID:33685-1785574800-1785585600@humboldt.ca
SUMMARY:Humboldt Farmers' Market
DESCRIPTION:Farmers’ Market at Misty Gardens featuring local vendors serving up the best homemade\, home baked\, and home grown products.
URL:https://humboldt.ca/event/humboldt-farmers-market-12/
LOCATION:Misty Gardens\, 534 Bruce St\, Humboldt\, SK\, S0K 2A0\, Canada
END:VEVENT
BEGIN:VEVENT
DTSTART;TZID=America/Regina:20260804T100000
DTEND;TZID=America/Regina:20260804T113000
DTSTAMP:20260423T055346
CREATED:20260112T214536Z
LAST-MODIFIED:20260112T214536Z
UID:32549-1785837600-1785843000@humboldt.ca
SUMMARY:Conversation & Refreshment
DESCRIPTION:Prairie Gateway Settlement Services welcomes everyone for Conversation and Refreshments every Tuesday from 10 a.m. to 11:30 a.m.
URL:https://humboldt.ca/event/conversation-refreshment-42/
LOCATION:Prairie Gateway Settlement Services\, 606 9th Street
ORGANIZER;CN="Prairie Gateway Settlement Services":MAILTO:admin@thehrnc.com
END:VEVENT
BEGIN:VEVENT
DTSTART;TZID=America/Regina:20260808T090000
DTEND;TZID=America/Regina:20260808T120000
DTSTAMP:20260423T055346
CREATED:20260421T153002Z
LAST-MODIFIED:20260421T153002Z
UID:33687-1786179600-1786190400@humboldt.ca
SUMMARY:Humboldt Farmers' Market
DESCRIPTION:Farmers’ Market at Misty Gardens featuring local vendors serving up the best homemade\, home baked\, and home grown products.
URL:https://humboldt.ca/event/humboldt-farmers-market-13/
LOCATION:Misty Gardens\, 534 Bruce St\, Humboldt\, SK\, S0K 2A0\, Canada
END:VEVENT
BEGIN:VEVENT
DTSTART;TZID=America/Regina:20260810T173000
DTEND;TZID=America/Regina:20260810T200000
DTSTAMP:20260423T055346
CREATED:20251217T180244Z
LAST-MODIFIED:20251217T180244Z
UID:32259-1786383000-1786392000@humboldt.ca
SUMMARY:Executive Committee Meeting
DESCRIPTION:
URL:https://humboldt.ca/event/executive-committee-meeting-8/
LOCATION:Council Chambers – City Hall\, 715 Main St.
END:VEVENT
BEGIN:VEVENT
DTSTART;TZID=America/Regina:20260811T100000
DTEND;TZID=America/Regina:20260811T113000
DTSTAMP:20260423T055346
CREATED:20260112T214603Z
LAST-MODIFIED:20260112T214603Z
UID:32551-1786442400-1786447800@humboldt.ca
SUMMARY:Conversation & Refreshment
DESCRIPTION:Prairie Gateway Settlement Services welcomes everyone for Conversation and Refreshments every Tuesday from 10 a.m. to 11:30 a.m.
URL:https://humboldt.ca/event/conversation-refreshment-43/
LOCATION:Prairie Gateway Settlement Services\, 606 9th Street
ORGANIZER;CN="Prairie Gateway Settlement Services":MAILTO:admin@thehrnc.com
END:VEVENT
BEGIN:VEVENT
DTSTART;TZID=America/Regina:20260815T090000
DTEND;TZID=America/Regina:20260815T120000
DTSTAMP:20260423T055346
CREATED:20260421T153015Z
LAST-MODIFIED:20260421T153015Z
UID:33689-1786784400-1786795200@humboldt.ca
SUMMARY:Humboldt Farmers' Market
DESCRIPTION:Farmers’ Market at Misty Gardens featuring local vendors serving up the best homemade\, home baked\, and home grown products.
URL:https://humboldt.ca/event/humboldt-farmers-market-14/
LOCATION:Misty Gardens\, 534 Bruce St\, Humboldt\, SK\, S0K 2A0\, Canada
END:VEVENT
BEGIN:VEVENT
DTSTART;TZID=America/Regina:20260818T100000
DTEND;TZID=America/Regina:20260818T113000
DTSTAMP:20260423T055346
CREATED:20260112T214622Z
LAST-MODIFIED:20260112T214622Z
UID:32553-1787047200-1787052600@humboldt.ca
SUMMARY:Conversation & Refreshment
DESCRIPTION:Prairie Gateway Settlement Services welcomes everyone for Conversation and Refreshments every Tuesday from 10 a.m. to 11:30 a.m.
URL:https://humboldt.ca/event/conversation-refreshment-44/
LOCATION:Prairie Gateway Settlement Services\, 606 9th Street
ORGANIZER;CN="Prairie Gateway Settlement Services":MAILTO:admin@thehrnc.com
END:VEVENT
BEGIN:VEVENT
DTSTART;TZID=America/Regina:20260822T090000
DTEND;TZID=America/Regina:20260822T120000
DTSTAMP:20260423T055346
CREATED:20260421T153028Z
LAST-MODIFIED:20260421T153028Z
UID:33691-1787389200-1787400000@humboldt.ca
SUMMARY:Humboldt Farmers' Market
DESCRIPTION:Farmers’ Market at Misty Gardens featuring local vendors serving up the best homemade\, home baked\, and home grown products.
URL:https://humboldt.ca/event/humboldt-farmers-market-15/
LOCATION:Misty Gardens\, 534 Bruce St\, Humboldt\, SK\, S0K 2A0\, Canada
END:VEVENT
BEGIN:VEVENT
DTSTART;TZID=America/Regina:20260824T173000
DTEND;TZID=America/Regina:20260824T190000
DTSTAMP:20260423T055346
CREATED:20251217T175721Z
LAST-MODIFIED:20251217T175721Z
UID:32237-1787592600-1787598000@humboldt.ca
SUMMARY:Regular City Council Meeting
DESCRIPTION:
URL:https://humboldt.ca/event/regular-city-council-meeting-11/
LOCATION:Council Chambers – City Hall\, 715 Main St.
END:VEVENT
BEGIN:VEVENT
DTSTART;TZID=America/Regina:20260825T100000
DTEND;TZID=America/Regina:20260825T113000
DTSTAMP:20260423T055346
CREATED:20260112T214701Z
LAST-MODIFIED:20260112T214701Z
UID:32555-1787652000-1787657400@humboldt.ca
SUMMARY:Conversation & Refreshment
DESCRIPTION:Prairie Gateway Settlement Services welcomes everyone for Conversation and Refreshments every Tuesday from 10 a.m. to 11:30 a.m.
URL:https://humboldt.ca/event/conversation-refreshment-45/
LOCATION:Prairie Gateway Settlement Services\, 606 9th Street
ORGANIZER;CN="Prairie Gateway Settlement Services":MAILTO:admin@thehrnc.com
END:VEVENT
BEGIN:VEVENT
DTSTART;TZID=America/Regina:20260829T090000
DTEND;TZID=America/Regina:20260829T120000
DTSTAMP:20260423T055346
CREATED:20260421T153040Z
LAST-MODIFIED:20260421T153040Z
UID:33693-1787994000-1788004800@humboldt.ca
SUMMARY:Humboldt Farmers' Market
DESCRIPTION:Farmers’ Market at Misty Gardens featuring local vendors serving up the best homemade\, home baked\, and home grown products.
URL:https://humboldt.ca/event/humboldt-farmers-market-16/
LOCATION:Misty Gardens\, 534 Bruce St\, Humboldt\, SK\, S0K 2A0\, Canada
END:VEVENT
END:VCALENDAR