BEGIN:VCALENDAR
VERSION:2.0
PRODID:-//City of Humboldt - ECPv6.15.20//NONSGML v1.0//EN
CALSCALE:GREGORIAN
METHOD:PUBLISH
X-WR-CALNAME:City of Humboldt
X-ORIGINAL-URL:https://humboldt.ca
X-WR-CALDESC:Events for City of Humboldt
REFRESH-INTERVAL;VALUE=DURATION:PT1H
X-Robots-Tag:noindex
X-PUBLISHED-TTL:PT1H
BEGIN:VTIMEZONE
TZID:America/Regina
BEGIN:STANDARD
TZOFFSETFROM:-0600
TZOFFSETTO:-0600
TZNAME:CST
DTSTART:20250101T000000
END:STANDARD
END:VTIMEZONE
BEGIN:VEVENT
DTSTART;TZID=America/Regina:20260704T090000
DTEND;TZID=America/Regina:20260704T120000
DTSTAMP:20260423T042116
CREATED:20260421T152813Z
LAST-MODIFIED:20260421T152813Z
UID:33677-1783155600-1783166400@humboldt.ca
SUMMARY:Humboldt Farmers' Market
DESCRIPTION:Farmers’ Market at Misty Gardens featuring local vendors serving up the best homemade\, home baked\, and home grown products.
URL:https://humboldt.ca/event/humboldt-farmers-market-8/
LOCATION:Misty Gardens\, 534 Bruce St\, Humboldt\, SK\, S0K 2A0\, Canada
END:VEVENT
BEGIN:VEVENT
DTSTART;TZID=America/Regina:20260707T100000
DTEND;TZID=America/Regina:20260707T113000
DTSTAMP:20260423T042116
CREATED:20260112T214407Z
LAST-MODIFIED:20260112T214407Z
UID:32541-1783418400-1783423800@humboldt.ca
SUMMARY:Conversation & Refreshment
DESCRIPTION:Prairie Gateway Settlement Services welcomes everyone for Conversation and Refreshments every Tuesday from 10 a.m. to 11:30 a.m.
URL:https://humboldt.ca/event/conversation-refreshment-38/
LOCATION:Prairie Gateway Settlement Services\, 606 9th Street
ORGANIZER;CN="Prairie Gateway Settlement Services":MAILTO:admin@thehrnc.com
END:VEVENT
BEGIN:VEVENT
DTSTART;TZID=America/Regina:20260711T090000
DTEND;TZID=America/Regina:20260711T120000
DTSTAMP:20260423T042116
CREATED:20260421T152828Z
LAST-MODIFIED:20260421T152828Z
UID:33679-1783760400-1783771200@humboldt.ca
SUMMARY:Humboldt Farmers' Market
DESCRIPTION:Farmers’ Market at Misty Gardens featuring local vendors serving up the best homemade\, home baked\, and home grown products.
URL:https://humboldt.ca/event/humboldt-farmers-market-9/
LOCATION:Misty Gardens\, 534 Bruce St\, Humboldt\, SK\, S0K 2A0\, Canada
END:VEVENT
BEGIN:VEVENT
DTSTART;TZID=America/Regina:20260713T173000
DTEND;TZID=America/Regina:20260713T200000
DTSTAMP:20260423T042116
CREATED:20251217T180224Z
LAST-MODIFIED:20251217T180224Z
UID:32257-1783963800-1783972800@humboldt.ca
SUMMARY:Executive Committee Meeting
DESCRIPTION:
URL:https://humboldt.ca/event/executive-committee-meeting-7/
LOCATION:Council Chambers – City Hall\, 715 Main St.
END:VEVENT
BEGIN:VEVENT
DTSTART;TZID=America/Regina:20260714T100000
DTEND;TZID=America/Regina:20260714T113000
DTSTAMP:20260423T042116
CREATED:20260112T214428Z
LAST-MODIFIED:20260112T214428Z
UID:32543-1784023200-1784028600@humboldt.ca
SUMMARY:Conversation & Refreshment
DESCRIPTION:Prairie Gateway Settlement Services welcomes everyone for Conversation and Refreshments every Tuesday from 10 a.m. to 11:30 a.m.
URL:https://humboldt.ca/event/conversation-refreshment-39/
LOCATION:Prairie Gateway Settlement Services\, 606 9th Street
ORGANIZER;CN="Prairie Gateway Settlement Services":MAILTO:admin@thehrnc.com
END:VEVENT
BEGIN:VEVENT
DTSTART;TZID=America/Regina:20260718T090000
DTEND;TZID=America/Regina:20260718T120000
DTSTAMP:20260423T042116
CREATED:20260421T152843Z
LAST-MODIFIED:20260421T152843Z
UID:33681-1784365200-1784376000@humboldt.ca
SUMMARY:Humboldt Farmers' Market
DESCRIPTION:Farmers’ Market at Misty Gardens featuring local vendors serving up the best homemade\, home baked\, and home grown products.
URL:https://humboldt.ca/event/humboldt-farmers-market-10/
LOCATION:Misty Gardens\, 534 Bruce St\, Humboldt\, SK\, S0K 2A0\, Canada
END:VEVENT
BEGIN:VEVENT
DTSTART;TZID=America/Regina:20260721T100000
DTEND;TZID=America/Regina:20260721T113000
DTSTAMP:20260423T042116
CREATED:20260112T214448Z
LAST-MODIFIED:20260112T214448Z
UID:32545-1784628000-1784633400@humboldt.ca
SUMMARY:Conversation & Refreshment
DESCRIPTION:Prairie Gateway Settlement Services welcomes everyone for Conversation and Refreshments every Tuesday from 10 a.m. to 11:30 a.m.
URL:https://humboldt.ca/event/conversation-refreshment-40/
LOCATION:Prairie Gateway Settlement Services\, 606 9th Street
ORGANIZER;CN="Prairie Gateway Settlement Services":MAILTO:admin@thehrnc.com
END:VEVENT
BEGIN:VEVENT
DTSTART;TZID=America/Regina:20260725T090000
DTEND;TZID=America/Regina:20260725T120000
DTSTAMP:20260423T042116
CREATED:20260421T152858Z
LAST-MODIFIED:20260421T152858Z
UID:33683-1784970000-1784980800@humboldt.ca
SUMMARY:Humboldt Farmers' Market
DESCRIPTION:Farmers’ Market at Misty Gardens featuring local vendors serving up the best homemade\, home baked\, and home grown products.
URL:https://humboldt.ca/event/humboldt-farmers-market-11/
LOCATION:Misty Gardens\, 534 Bruce St\, Humboldt\, SK\, S0K 2A0\, Canada
END:VEVENT
BEGIN:VEVENT
DTSTART;TZID=America/Regina:20260727T173000
DTEND;TZID=America/Regina:20260727T190000
DTSTAMP:20260423T042116
CREATED:20251217T175656Z
LAST-MODIFIED:20251217T175656Z
UID:32235-1785173400-1785178800@humboldt.ca
SUMMARY:Regular City Council Meeting
DESCRIPTION:
URL:https://humboldt.ca/event/regular-city-council-meeting-7/
LOCATION:Council Chambers – City Hall\, 715 Main St.
END:VEVENT
BEGIN:VEVENT
DTSTART;TZID=America/Regina:20260728T100000
DTEND;TZID=America/Regina:20260728T113000
DTSTAMP:20260423T042116
CREATED:20260112T214508Z
LAST-MODIFIED:20260112T214508Z
UID:32547-1785232800-1785238200@humboldt.ca
SUMMARY:Conversation & Refreshment
DESCRIPTION:Prairie Gateway Settlement Services welcomes everyone for Conversation and Refreshments every Tuesday from 10 a.m. to 11:30 a.m.
URL:https://humboldt.ca/event/conversation-refreshment-41/
LOCATION:Prairie Gateway Settlement Services\, 606 9th Street
ORGANIZER;CN="Prairie Gateway Settlement Services":MAILTO:admin@thehrnc.com
END:VEVENT
END:VCALENDAR