BEGIN:VCALENDAR
VERSION:2.0
PRODID:-//City of Humboldt - ECPv6.15.20//NONSGML v1.0//EN
CALSCALE:GREGORIAN
METHOD:PUBLISH
X-WR-CALNAME:City of Humboldt
X-ORIGINAL-URL:https://humboldt.ca
X-WR-CALDESC:Events for City of Humboldt
REFRESH-INTERVAL;VALUE=DURATION:PT1H
X-Robots-Tag:noindex
X-PUBLISHED-TTL:PT1H
BEGIN:VTIMEZONE
TZID:America/Regina
BEGIN:STANDARD
TZOFFSETFROM:-0600
TZOFFSETTO:-0600
TZNAME:CST
DTSTART:20250101T000000
END:STANDARD
END:VTIMEZONE
BEGIN:VEVENT
DTSTART;TZID=America/Regina:20260602T100000
DTEND;TZID=America/Regina:20260602T113000
DTSTAMP:20260423T024106
CREATED:20260112T213804Z
LAST-MODIFIED:20260112T213804Z
UID:32531-1780394400-1780399800@humboldt.ca
SUMMARY:Conversation & Refreshment
DESCRIPTION:Prairie Gateway Settlement Services welcomes everyone for Conversation and Refreshments every Tuesday from 10 a.m. to 11:30 a.m.
URL:https://humboldt.ca/event/conversation-refreshment-33/
LOCATION:Prairie Gateway Settlement Services\, 606 9th Street
ORGANIZER;CN="Prairie Gateway Settlement Services":MAILTO:admin@thehrnc.com
END:VEVENT
BEGIN:VEVENT
DTSTART;TZID=America/Regina:20260604T193000
DTEND;TZID=America/Regina:20260604T213000
DTSTAMP:20260423T024106
CREATED:20260422T194610Z
LAST-MODIFIED:20260422T194610Z
UID:33736-1780601400-1780608600@humboldt.ca
SUMMARY:Jake Vaadeland and the Sturgeon River Boys
DESCRIPTION:Wadena Legion Hall presents Jake Vaadeland and the Sturgeon River Boys. $40/ticket available at www.jakevaadeland.com or e-transfer to wadenaartscouncil@gmail.com
URL:https://humboldt.ca/event/jake-vaadeland-and-the-sturgeon-river-boys/
LOCATION:Wadena Community Legion Hall
ATTACH;FMTTYPE=image/jpeg:https://humboldt.ca/wp-content/uploads/2026/04/Jake-the-Boys-UNE_4_2026.jpg
END:VEVENT
BEGIN:VEVENT
DTSTART;TZID=America/Regina:20260605T170000
DTEND;TZID=America/Regina:20260605T220000
DTSTAMP:20260423T024106
CREATED:20260401T220219Z
LAST-MODIFIED:20260401T220219Z
UID:33430-1780678800-1780696800@humboldt.ca
SUMMARY:Dine & Dash Diabetes Fundraiser
DESCRIPTION:Humboldt and Area Team T1D Dine and Dash fundraiser featuring Jeffery Straker.  Cocktails at 5 p.m.\, Supper at 6 p.m. with live auction and entertainment to follow. For more info or to reserve a table\, call Cailin at 306-231-6278.
URL:https://humboldt.ca/event/dine-dash-diabetes-fundraiser/
LOCATION:Uniplex – Elgar Petersen Arena\, 619 17th Street\, Humboldt\, Saskatchewan\, S0K 2A0\, Canada
ATTACH;FMTTYPE=image/jpeg:https://humboldt.ca/wp-content/uploads/2026/04/Dine-Dash-fundraiser-June-5.jpg
END:VEVENT
BEGIN:VEVENT
DTSTART;TZID=America/Regina:20260606T090000
DTEND;TZID=America/Regina:20260606T120000
DTSTAMP:20260423T024106
CREATED:20260421T152654Z
LAST-MODIFIED:20260421T152654Z
UID:33669-1780736400-1780747200@humboldt.ca
SUMMARY:Humboldt Farmers' Market
DESCRIPTION:Farmers’ Market at Misty Gardens featuring local vendors serving up the best homemade\, home baked\, and home grown products.
URL:https://humboldt.ca/event/humboldt-farmers-market-4/
LOCATION:Misty Gardens\, 534 Bruce St\, Humboldt\, SK\, S0K 2A0\, Canada
END:VEVENT
BEGIN:VEVENT
DTSTART;TZID=America/Regina:20260606T100000
DTEND;TZID=America/Regina:20260606T150000
DTSTAMP:20260423T024106
CREATED:20260401T215333Z
LAST-MODIFIED:20260401T215333Z
UID:33425-1780740000-1780758000@humboldt.ca
SUMMARY:Humboldt Wildlife Federation: Youth Engagement Day
DESCRIPTION:Come and go event at the Humboldt Wildlife Federation Education Centre and Gun Range. Games\, Nature Tracking BBQ lunch\, .22 air rifle shooting\, compound bow archery\, slingshots and more. Call Scott at 306-231-4165 for more information.
URL:https://humboldt.ca/event/humboldt-wildlife-federation-youth-engagement-day/
LOCATION:Humboldt Wildlife Federation Education Centre
ATTACH;FMTTYPE=image/jpeg:https://humboldt.ca/wp-content/uploads/2026/04/Humboldt-Youth-Engagement-Day-June-6.jpg
END:VEVENT
BEGIN:VEVENT
DTSTART;TZID=America/Regina:20260606T190000
DTEND;TZID=America/Regina:20260606T213000
DTSTAMP:20260423T024106
CREATED:20260401T214241Z
LAST-MODIFIED:20260401T214241Z
UID:33422-1780772400-1780781400@humboldt.ca
SUMMARY:Scott Woods at the Legion
DESCRIPTION:Canadian Fiddle Champion Scott Woods presents Fiddle Country. Tickets available at the Legion Club Room or Kemway Lanes.
URL:https://humboldt.ca/event/scott-woods-at-the-legion/
ATTACH;FMTTYPE=image/jpeg:https://humboldt.ca/wp-content/uploads/2026/04/Scott-Woods-June-6.jpg
END:VEVENT
BEGIN:VEVENT
DTSTART;TZID=America/Regina:20260607T130000
DTEND;TZID=America/Regina:20260607T170000
DTSTAMP:20260423T024106
CREATED:20260401T220512Z
LAST-MODIFIED:20260401T220512Z
UID:33433-1780837200-1780851600@humboldt.ca
SUMMARY:Kevin & Marg Harcourt in Concert
DESCRIPTION:Concert at the Humboldt Vintage Club featuring Kevin & Marg Harcourt. Music from 1 to 3 p.m.\, tour from 3 to 5 p.m. $20/ticket
URL:https://humboldt.ca/event/kevin-marg-harcourt-in-concert/
LOCATION:Humboldt Vintage Club
ATTACH;FMTTYPE=image/jpeg:https://humboldt.ca/wp-content/uploads/2026/04/Vintage-Club-concert-June-7.jpg
END:VEVENT
BEGIN:VEVENT
DTSTART;TZID=America/Regina:20260609T100000
DTEND;TZID=America/Regina:20260609T113000
DTSTAMP:20260423T024106
CREATED:20260112T213824Z
LAST-MODIFIED:20260112T213824Z
UID:32533-1780999200-1781004600@humboldt.ca
SUMMARY:Conversation & Refreshment
DESCRIPTION:Prairie Gateway Settlement Services welcomes everyone for Conversation and Refreshments every Tuesday from 10 a.m. to 11:30 a.m.
URL:https://humboldt.ca/event/conversation-refreshment-34/
LOCATION:Prairie Gateway Settlement Services\, 606 9th Street
ORGANIZER;CN="Prairie Gateway Settlement Services":MAILTO:admin@thehrnc.com
END:VEVENT
BEGIN:VEVENT
DTSTART;TZID=America/Regina:20260609T173000
DTEND;TZID=America/Regina:20260609T200000
DTSTAMP:20260423T024106
CREATED:20251217T180206Z
LAST-MODIFIED:20251217T180206Z
UID:32255-1781026200-1781035200@humboldt.ca
SUMMARY:Executive Committee Meeting
DESCRIPTION:
URL:https://humboldt.ca/event/executive-committee-meeting-6/
LOCATION:Council Chambers – City Hall\, 715 Main St.
END:VEVENT
BEGIN:VEVENT
DTSTART;TZID=America/Regina:20260610T110000
DTEND;TZID=America/Regina:20260610T190000
DTSTAMP:20260423T024106
CREATED:20260410T162740Z
LAST-MODIFIED:20260410T162740Z
UID:33535-1781089200-1781118000@humboldt.ca
SUMMARY:HDCS Bacon Cheeseburger Fundraiser
DESCRIPTION:Call the Bella Vista at 306-682-2686 to order and pick up your Bacon Cheeseburger with Fries/Gravy for $15.00\, to help support Humboldt District Community Services’ Summer Program for Children and Youth with Disabilities.
URL:https://humboldt.ca/event/hdcs-bacon-cheeseburger-fundraiser/
LOCATION:Bella Vista Inn\, 1815 8 Ave\,\, Humboldt\, Saskatchewan\, S0K 2A0
END:VEVENT
BEGIN:VEVENT
DTSTART;TZID=America/Regina:20260613T090000
DTEND;TZID=America/Regina:20260613T120000
DTSTAMP:20260423T024106
CREATED:20260421T152714Z
LAST-MODIFIED:20260421T152714Z
UID:33671-1781341200-1781352000@humboldt.ca
SUMMARY:Humboldt Farmers' Market
DESCRIPTION:Farmers’ Market at Misty Gardens featuring local vendors serving up the best homemade\, home baked\, and home grown products.
URL:https://humboldt.ca/event/humboldt-farmers-market-5/
LOCATION:Misty Gardens\, 534 Bruce St\, Humboldt\, SK\, S0K 2A0\, Canada
END:VEVENT
BEGIN:VEVENT
DTSTART;TZID=America/Regina:20260616T100000
DTEND;TZID=America/Regina:20260616T113000
DTSTAMP:20260423T024106
CREATED:20260112T214002Z
LAST-MODIFIED:20260112T214002Z
UID:32535-1781604000-1781609400@humboldt.ca
SUMMARY:Conversation & Refreshment
DESCRIPTION:Prairie Gateway Settlement Services welcomes everyone for Conversation and Refreshments every Tuesday from 10 a.m. to 11:30 a.m.
URL:https://humboldt.ca/event/conversation-refreshment-35/
LOCATION:Prairie Gateway Settlement Services\, 606 9th Street
ORGANIZER;CN="Prairie Gateway Settlement Services":MAILTO:admin@thehrnc.com
END:VEVENT
BEGIN:VEVENT
DTSTART;TZID=America/Regina:20260617T120000
DTEND;TZID=America/Regina:20260617T190000
DTSTAMP:20260423T024106
CREATED:20260415T164019Z
LAST-MODIFIED:20260415T164019Z
UID:33595-1781697600-1781722800@humboldt.ca
SUMMARY:20th Annual Habitat Trust Golf Tournament
DESCRIPTION:18 holes of golf\, golf cart\, and supper for $120/person. Shotgun start at noon. To register\, contact Central Office at 306-692-8812 or sask.wildlife@swf.sk.ca
URL:https://humboldt.ca/event/20th-annual-habitat-trust-golf-tournament/
LOCATION:Humboldt Golf Club\, Humboldt\, Saskatchewan
ATTACH;FMTTYPE=image/jpeg:https://humboldt.ca/wp-content/uploads/2026/04/Updated-Golf-scaled.jpg
END:VEVENT
BEGIN:VEVENT
DTSTART;TZID=America/Regina:20260620T090000
DTEND;TZID=America/Regina:20260620T120000
DTSTAMP:20260423T024106
CREATED:20260421T152743Z
LAST-MODIFIED:20260421T152743Z
UID:33673-1781946000-1781956800@humboldt.ca
SUMMARY:Humboldt Farmers' Market
DESCRIPTION:Farmers’ Market at Misty Gardens featuring local vendors serving up the best homemade\, home baked\, and home grown products.
URL:https://humboldt.ca/event/humboldt-farmers-market-6/
LOCATION:Misty Gardens\, 534 Bruce St\, Humboldt\, SK\, S0K 2A0\, Canada
END:VEVENT
BEGIN:VEVENT
DTSTART;TZID=America/Regina:20260622T173000
DTEND;TZID=America/Regina:20260622T190000
DTSTAMP:20260423T024106
CREATED:20251217T175628Z
LAST-MODIFIED:20251217T175628Z
UID:32233-1782149400-1782154800@humboldt.ca
SUMMARY:Regular City Council Meeting
DESCRIPTION:
URL:https://humboldt.ca/event/regular-city-council-meeting-6/
LOCATION:Council Chambers – City Hall\, 715 Main St.
END:VEVENT
BEGIN:VEVENT
DTSTART;TZID=America/Regina:20260623T100000
DTEND;TZID=America/Regina:20260623T113000
DTSTAMP:20260423T024106
CREATED:20260112T214021Z
LAST-MODIFIED:20260112T214021Z
UID:32537-1782208800-1782214200@humboldt.ca
SUMMARY:Conversation & Refreshment
DESCRIPTION:Prairie Gateway Settlement Services welcomes everyone for Conversation and Refreshments every Tuesday from 10 a.m. to 11:30 a.m.
URL:https://humboldt.ca/event/conversation-refreshment-36/
LOCATION:Prairie Gateway Settlement Services\, 606 9th Street
ORGANIZER;CN="Prairie Gateway Settlement Services":MAILTO:admin@thehrnc.com
END:VEVENT
BEGIN:VEVENT
DTSTART;VALUE=DATE:20260626
DTEND;VALUE=DATE:20260629
DTSTAMP:20260423T024106
CREATED:20260401T221059Z
LAST-MODIFIED:20260401T221059Z
UID:33436-1782432000-1782691199@humboldt.ca
SUMMARY:Humboldt Summer Sizzler
DESCRIPTION:multi-day event featuring midway rides\, entertainment\, kids activities and more. More details to come.
URL:https://humboldt.ca/event/humboldt-summer-sizzler/
LOCATION:Centennial Park
ORGANIZER;CN="City of Humboldt - Community &amp%3B Leisure Services":MAILTO:eventmanager@humboldt.ca
END:VEVENT
BEGIN:VEVENT
DTSTART;VALUE=DATE:20260627
DTEND;VALUE=DATE:20260628
DTSTAMP:20260423T024106
CREATED:20251229T193233Z
LAST-MODIFIED:20251229T193233Z
UID:32332-1782518400-1782604799@humboldt.ca
SUMMARY:Living Skies Music Festival
DESCRIPTION:Country Night – Brett Kissel\, Aaron Pritchett\, Kalsey Kulyk & more.\nTickets available at livingskiesmusicfestival.com
URL:https://humboldt.ca/event/living-skies-music-festival/
LOCATION:Centennial Park
ATTACH;FMTTYPE=image/jpeg:https://humboldt.ca/wp-content/uploads/2025/12/Living-Skies.jpg
END:VEVENT
BEGIN:VEVENT
DTSTART;TZID=America/Regina:20260627T090000
DTEND;TZID=America/Regina:20260627T120000
DTSTAMP:20260423T024106
CREATED:20260421T152757Z
LAST-MODIFIED:20260421T152757Z
UID:33675-1782550800-1782561600@humboldt.ca
SUMMARY:Humboldt Farmers' Market
DESCRIPTION:Farmers’ Market at Misty Gardens featuring local vendors serving up the best homemade\, home baked\, and home grown products.
URL:https://humboldt.ca/event/humboldt-farmers-market-7/
LOCATION:Misty Gardens\, 534 Bruce St\, Humboldt\, SK\, S0K 2A0\, Canada
END:VEVENT
BEGIN:VEVENT
DTSTART;VALUE=DATE:20260628
DTEND;VALUE=DATE:20260629
DTSTAMP:20260423T024106
CREATED:20251229T193747Z
LAST-MODIFIED:20251229T193747Z
UID:32335-1782604800-1782691199@humboldt.ca
SUMMARY:Living Skies Music Festival
DESCRIPTION:Rock Night – Trooper\, Chilliwack\, The Hip Experience and more.\nTickets available at livingskiesmusicfestival.com
URL:https://humboldt.ca/event/living-skies-music-festival-2/
LOCATION:Centennial Park
ATTACH;FMTTYPE=image/jpeg:https://humboldt.ca/wp-content/uploads/2025/12/Living-Skies.jpg
END:VEVENT
BEGIN:VEVENT
DTSTART;TZID=America/Regina:20260630T100000
DTEND;TZID=America/Regina:20260630T113000
DTSTAMP:20260423T024106
CREATED:20260112T214039Z
LAST-MODIFIED:20260112T214039Z
UID:32539-1782813600-1782819000@humboldt.ca
SUMMARY:Conversation & Refreshment
DESCRIPTION:Prairie Gateway Settlement Services welcomes everyone for Conversation and Refreshments every Tuesday from 10 a.m. to 11:30 a.m.
URL:https://humboldt.ca/event/conversation-refreshment-37/
LOCATION:Prairie Gateway Settlement Services\, 606 9th Street
ORGANIZER;CN="Prairie Gateway Settlement Services":MAILTO:admin@thehrnc.com
END:VEVENT
END:VCALENDAR