BEGIN:VCALENDAR
VERSION:2.0
PRODID:-//City of Humboldt - ECPv6.15.20//NONSGML v1.0//EN
CALSCALE:GREGORIAN
METHOD:PUBLISH
X-ORIGINAL-URL:https://humboldt.ca
X-WR-CALDESC:Events for City of Humboldt
REFRESH-INTERVAL;VALUE=DURATION:PT1H
X-Robots-Tag:noindex
X-PUBLISHED-TTL:PT1H
BEGIN:VTIMEZONE
TZID:America/Regina
BEGIN:STANDARD
TZOFFSETFROM:-0600
TZOFFSETTO:-0600
TZNAME:CST
DTSTART:20250101T000000
END:STANDARD
END:VTIMEZONE
BEGIN:VEVENT
DTSTART;TZID=America/Regina:20260303T100000
DTEND;TZID=America/Regina:20260303T113000
DTSTAMP:20260423T011337
CREATED:20260112T213125Z
LAST-MODIFIED:20260112T213125Z
UID:32505-1772532000-1772537400@humboldt.ca
SUMMARY:Conversation & Refreshment
DESCRIPTION:Prairie Gateway Settlement Services welcomes everyone for Conversation and Refreshments every Tuesday from 10 a.m. to 11:30 a.m.
URL:https://humboldt.ca/event/conversation-refreshment-20/
LOCATION:Prairie Gateway Settlement Services\, 606 9th Street
ORGANIZER;CN="Prairie Gateway Settlement Services":MAILTO:admin@thehrnc.com
END:VEVENT
BEGIN:VEVENT
DTSTART;TZID=America/Regina:20260303T130000
DTEND;TZID=America/Regina:20260303T170000
DTSTAMP:20260423T011337
CREATED:20260206T213352Z
LAST-MODIFIED:20260206T213352Z
UID:32900-1772542800-1772557200@humboldt.ca
SUMMARY:St. Peter's College Student Artwork Exhibit
DESCRIPTION:The Gallery is excited to welcome back the St. Peter’s College Fine Arts Department for their annual student artwork exhibition! On display are pieces from current students enrolled in visual arts classes\, organized by Jacob Semko. The exhibit is located on the Gallery’s second floor and is open from Tuesday\, March 3 to Saturday\, March 28. For more information\, please visit humboldtmuseum.ca.
URL:https://humboldt.ca/event/st-peters-college-student-artwork-exhibit/
LOCATION:Humboldt and District Gallery
ATTACH;FMTTYPE=image/jpeg:https://humboldt.ca/wp-content/uploads/2026/02/SPC-2026-DH-until-Mar.-29.jpg
END:VEVENT
BEGIN:VEVENT
DTSTART;TZID=America/Regina:20260303T130000
DTEND;TZID=America/Regina:20260303T170000
DTSTAMP:20260423T011337
CREATED:20260212T161845Z
LAST-MODIFIED:20260303T171318Z
UID:32953-1772542800-1772557200@humboldt.ca
SUMMARY:Common Ground by Cindy Hoppe and Diane LaRouche Ellard - Opening Day
DESCRIPTION:Artists\, collaborators and friends\, Cindy Hoppe and Diane LaRouche Ellard share their explorations of the prairie landscape through their individual mediums in Common Ground\, the latest exhibit on the main floor of the Gallery. This exhibit is on display until April 24.
URL:https://humboldt.ca/event/common-ground-by-cindy-hoppe-and-diane-larouche-ellard-opening-day/
LOCATION:Humboldt and District Gallery
ATTACH;FMTTYPE=image/jpeg:https://humboldt.ca/wp-content/uploads/2026/02/DH-Common-Ground-display-until-April-25.jpg
END:VEVENT
BEGIN:VEVENT
DTSTART;TZID=America/Regina:20260304T190000
DTEND;TZID=America/Regina:20260304T210000
DTSTAMP:20260423T011337
CREATED:20260226T211539Z
LAST-MODIFIED:20260226T211539Z
UID:33029-1772650800-1772658000@humboldt.ca
SUMMARY:Ladies Night at the Humboldt Curling Club
DESCRIPTION:Enter as a team of 3 or 4 or as an individual. $25/curler. Theme: March Madness
URL:https://humboldt.ca/event/ladies-night-at-the-humboldt-curling-club/
LOCATION:Humboldt Curling Club
ATTACH;FMTTYPE=image/jpeg:https://humboldt.ca/wp-content/uploads/2026/02/Ladies-night-curling-March-4.jpg
ORGANIZER;CN="Humboldt Curling Club":MAILTO:humboldtcurlingclub@hotmail.com
END:VEVENT
BEGIN:VEVENT
DTSTART;TZID=America/Regina:20260305T110000
DTEND;TZID=America/Regina:20260305T120000
DTSTAMP:20260423T011337
CREATED:20260304T193057Z
LAST-MODIFIED:20260304T193057Z
UID:33075-1772708400-1772712000@humboldt.ca
SUMMARY:Tunes and Tales with Miss Maddie
DESCRIPTION:Miss Maddie from the Reid-Thompson Public Library is at the HEYFRC to share her stories\, songs\, and puppets with your child aged 0-5. This FREE program is an excellent way to introduce your children to literacy!
URL:https://humboldt.ca/event/tunes-and-tales-with-miss-maddie/
LOCATION:Humboldt Early Years Family Resource Center\, 1605 8th Avenue\, Humboldt\, Saskatchewan\, s0k2a0\, Canada
ORGANIZER;CN="Humboldt Early Years Family Resource Center":MAILTO:frc@partnersfs.ca
END:VEVENT
BEGIN:VEVENT
DTSTART;TZID=America/Regina:20260305T180000
DTEND;TZID=America/Regina:20260305T203000
DTSTAMP:20260423T011337
CREATED:20260206T191833Z
LAST-MODIFIED:20260206T191833Z
UID:32898-1772733600-1772742600@humboldt.ca
SUMMARY:Student Artwork Exhibit Opening Reception
DESCRIPTION:The Gallery is hosting an opening reception for the St. Peter’s College student artwork exhibit. Come and chat\, view the exhibit\, and enjoy some snacks and beverages. This event is free and all are welcome to attend. For more information\, call the Gallery at (306) 682-5226 or email info@humboldtmuseum.ca.
URL:https://humboldt.ca/event/student-artwork-exhibit-opening-reception/
LOCATION:Humboldt and District Gallery
END:VEVENT
BEGIN:VEVENT
DTSTART;TZID=America/Regina:20260305T190000
DTEND;TZID=America/Regina:20260305T210000
DTSTAMP:20260423T011337
CREATED:20260106T160537Z
LAST-MODIFIED:20260106T160537Z
UID:32408-1772737200-1772744400@humboldt.ca
SUMMARY:Humboldt Lions BINGO
DESCRIPTION:Bingos will be held every second Thursday starting January 8\, 2026 and ending May 14\, 2026.\n12 Games each night. Cards: 6/$20\, 12/$30\, 18/$35.\n$1\,100 minimum total payout per night\nConcession on Site\nNet Proceeds to support our local St. Mary’s Villa Foundation\, for new building equipment and furnishings!\nLottery License CB25-0028
URL:https://humboldt.ca/event/humboldt-lions-bingo-5/
LOCATION:Royal Canadian Legion\, 324 Main Street\, HUMBOLDT\, Saskatchewan\, S0K2A0\, Canada
ATTACH;FMTTYPE=image/jpeg:https://humboldt.ca/wp-content/uploads/2026/01/607622135_122287399298026718_4624512001293895678_n.jpg
END:VEVENT
BEGIN:VEVENT
DTSTART;TZID=America/Regina:20260306T080000
DTEND;TZID=America/Regina:20260306T170000
DTSTAMP:20260423T011337
CREATED:20260227T162930Z
LAST-MODIFIED:20260227T165932Z
UID:33036-1772784000-1772816400@humboldt.ca
SUMMARY:HEYFRC 4th Birthday Celebration
DESCRIPTION:Help the HEYFRC celebrate their 4th birthday at Calico Gymnastics. Open gym time\, some games and\, of course\, lots of fun! This program is FREE and for families with children aged 0-5. Join the fun by emailing frc@horizonsd.ca or call 306 682 5004.
URL:https://humboldt.ca/event/heyfrc-4th-birthday-celebration/
LOCATION:Calico Gymnastics\, 1908 4th Ave.\, Humboldt
ORGANIZER;CN="Humboldt Early Years Family Resource Center":MAILTO:frc@partnersfs.ca
END:VEVENT
BEGIN:VEVENT
DTSTART;TZID=America/Regina:20260307T130000
DTEND;TZID=America/Regina:20260307T140000
DTSTAMP:20260423T011337
CREATED:20260304T193251Z
LAST-MODIFIED:20260304T223059Z
UID:33077-1772888400-1772892000@humboldt.ca
SUMMARY:International Women's Day Event
DESCRIPTION:Celebrate International Women’s Day! The aim of this event is to remove the stigma surrounding periods and have some fun whilst doing so. Using an electrical pulse machine\, pads will be attached to the stomach and a small handheld device controls the mode and strength of the pulses. All active participants will be entered into a pizza draw!
URL:https://humboldt.ca/event/international-womens-day-event/
LOCATION:Reid-Thompson Public Library\, Humboldt\, Saskatchewan\, Canada
ATTACH;FMTTYPE=image/png:https://humboldt.ca/wp-content/uploads/2026/03/Womens-Day-RTPL.png
ORGANIZER;CN="Reid-Thomspon Public Library":MAILTO:humcirc@wapitilibrary.ca
END:VEVENT
BEGIN:VEVENT
DTSTART;TZID=America/Regina:20260309T110000
DTEND;TZID=America/Regina:20260309T120000
DTSTAMP:20260423T011337
CREATED:20260305T150800Z
LAST-MODIFIED:20260305T150800Z
UID:33125-1773054000-1773057600@humboldt.ca
SUMMARY:Size Small Preschool Storytime
DESCRIPTION:Foster a love of interactive stories and songs with Miss Maddie and her puppets!
URL:https://humboldt.ca/event/size-small-preschool-storytime/
LOCATION:Reid-Thompson Public Library\, Humboldt\, Saskatchewan\, Canada
ATTACH;FMTTYPE=image/png:https://humboldt.ca/wp-content/uploads/2026/03/Size-Small.png
ORGANIZER;CN="Reid-Thomspon Public Library":MAILTO:humcirc@wapitilibrary.ca
END:VEVENT
BEGIN:VEVENT
DTSTART;TZID=America/Regina:20260309T140000
DTEND;TZID=America/Regina:20260309T150000
DTSTAMP:20260423T011337
CREATED:20260305T151426Z
LAST-MODIFIED:20260305T151426Z
UID:33134-1773064800-1773068400@humboldt.ca
SUMMARY:Mini-Sunshine Babytime
DESCRIPTION:Foster early literacy in your baby with simple stories\, songs\, tickles and bounces! Miss Maddie might even bring a puppet or two
URL:https://humboldt.ca/event/mini-sunshine-babytime/
LOCATION:Reid-Thompson Public Library\, Humboldt\, Saskatchewan\, Canada
ATTACH;FMTTYPE=image/png:https://humboldt.ca/wp-content/uploads/2026/03/Mini-Sunshine.png
ORGANIZER;CN="Reid-Thomspon Public Library":MAILTO:humcirc@wapitilibrary.ca
END:VEVENT
BEGIN:VEVENT
DTSTART;TZID=America/Regina:20260309T173000
DTEND;TZID=America/Regina:20260309T200000
DTSTAMP:20260423T011337
CREATED:20251217T180103Z
LAST-MODIFIED:20251217T180103Z
UID:32249-1773077400-1773086400@humboldt.ca
SUMMARY:Executive Committee Meeting
DESCRIPTION:
URL:https://humboldt.ca/event/executive-committee-meeting-3/
LOCATION:Council Chambers – City Hall\, 715 Main St.
END:VEVENT
BEGIN:VEVENT
DTSTART;TZID=America/Regina:20260310T100000
DTEND;TZID=America/Regina:20260310T113000
DTSTAMP:20260423T011337
CREATED:20260112T213152Z
LAST-MODIFIED:20260112T213152Z
UID:32507-1773136800-1773142200@humboldt.ca
SUMMARY:Conversation & Refreshment
DESCRIPTION:Prairie Gateway Settlement Services welcomes everyone for Conversation and Refreshments every Tuesday from 10 a.m. to 11:30 a.m.
URL:https://humboldt.ca/event/conversation-refreshment-21/
LOCATION:Prairie Gateway Settlement Services\, 606 9th Street
ORGANIZER;CN="Prairie Gateway Settlement Services":MAILTO:admin@thehrnc.com
END:VEVENT
BEGIN:VEVENT
DTSTART;TZID=America/Regina:20260310T193000
DTEND;TZID=America/Regina:20260310T213000
DTSTAMP:20260423T011337
CREATED:20260213T221932Z
LAST-MODIFIED:20260213T221932Z
UID:32965-1773171000-1773178200@humboldt.ca
SUMMARY:Lee Siegel Concert
DESCRIPTION:The Gallery is bringing you a night of soulful nostalgia with Ontario-based soul singer Lee Siegel! Join Lee and his keyboardist Konrad Pluta as they covers timeless classics from some of the genre’s greatest performers in this concert filled with love\, laughter\, and memories.  Tickets are $25 and available at the Museum and Gallery. For more information\, call (306) 682-5226 or email: info@humboldtmuseum.ca
URL:https://humboldt.ca/event/lee-siegel-concert/
LOCATION:Humboldt and District Gallery
ATTACH;FMTTYPE=image/jpeg:https://humboldt.ca/wp-content/uploads/2026/02/Lee-Siegel-Digital-Humboldt-until-Mar.-11.jpg
END:VEVENT
BEGIN:VEVENT
DTSTART;TZID=America/Regina:20260311T180000
DTEND;TZID=America/Regina:20260311T190000
DTSTAMP:20260423T011337
CREATED:20260304T193800Z
LAST-MODIFIED:20260304T223511Z
UID:33084-1773252000-1773255600@humboldt.ca
SUMMARY:Beginner Friendly Relaxing Meditation Class
DESCRIPTION:Bring your water\, an exercise mat and whatever else you need to be comfortable on the floor and get some much needed relaxation in!
URL:https://humboldt.ca/event/beginner-friendly-relaxing-meditation-class/
LOCATION:Reid-Thompson Public Library\, Humboldt\, Saskatchewan\, Canada
ATTACH;FMTTYPE=image/png:https://humboldt.ca/wp-content/uploads/2026/03/Meditation.png
ORGANIZER;CN="Reid-Thomspon Public Library":MAILTO:humcirc@wapitilibrary.ca
END:VEVENT
BEGIN:VEVENT
DTSTART;TZID=America/Regina:20260312T190000
DTEND;TZID=America/Regina:20260312T200000
DTSTAMP:20260423T011337
CREATED:20260225T160214Z
LAST-MODIFIED:20260225T193051Z
UID:32996-1773342000-1773345600@humboldt.ca
SUMMARY:The Art of Preserving
DESCRIPTION:Marie Saretsky will be giving a talk about the basics of preserving veggies – and no experience is required! It’s completely free and we encourage anyone who has an interest in preservation to attend! For more information\, call (306) 682-5226 or email info@humboldtmuseum.ca.
URL:https://humboldt.ca/event/the-art-of-preserving/
LOCATION:Humboldt and District Museum\, 602 Main Street\, Humboldt\, Saskatchewan
ATTACH;FMTTYPE=image/jpeg:https://humboldt.ca/wp-content/uploads/2026/02/Art-of-Preserving-DH-until-Mar.-19-1.jpg
END:VEVENT
BEGIN:VEVENT
DTSTART;VALUE=DATE:20260313
DTEND;VALUE=DATE:20260315
DTSTAMP:20260423T011337
CREATED:20260309T151814Z
LAST-MODIFIED:20260309T152208Z
UID:33158-1773360000-1773532799@humboldt.ca
SUMMARY:Saskatchewan Trappers Association annual Convention & General Meeting
DESCRIPTION:This is a two day event with several demonstrations\, raffles\, competitions & displayers. It is educational for all ages. Admission Daily and a Banquet on Saturday evening.\nadmin@saskatchewantrappers.com
URL:https://humboldt.ca/event/saskatchewan-trappers-association-annual-convention-general-meeting/
LOCATION:Humboldt Uniplex
ATTACH;FMTTYPE=image/jpeg:https://humboldt.ca/wp-content/uploads/2026/03/Trappers-Convention-2026.jpg
END:VEVENT
BEGIN:VEVENT
DTSTART;TZID=America/Regina:20260313T180000
DTEND;TZID=America/Regina:20260314T200000
DTSTAMP:20260423T011337
CREATED:20260226T213207Z
LAST-MODIFIED:20260226T213207Z
UID:33032-1773424800-1773518400@humboldt.ca
SUMMARY:St. Patrick's Bonspiel
DESCRIPTION:$200/team. Enter a team by calling 306-231-6781 by March 10 at 9 p.m.
URL:https://humboldt.ca/event/st-patricks-bonspiel/
LOCATION:Humboldt Curling Club
ATTACH;FMTTYPE=image/jpeg:https://humboldt.ca/wp-content/uploads/2026/02/St.-Patricks-bonspiel-March-14.jpg
ORGANIZER;CN="Humboldt Curling Club":MAILTO:humboldtcurlingclub@hotmail.com
END:VEVENT
BEGIN:VEVENT
DTSTART;TZID=America/Regina:20260314T100000
DTEND;TZID=America/Regina:20260314T190000
DTSTAMP:20260423T011337
CREATED:20260304T222735Z
LAST-MODIFIED:20260304T222834Z
UID:33107-1773482400-1773514800@humboldt.ca
SUMMARY:Spring Book Sale begins
DESCRIPTION:Spring book sale runs from March 14 – 28th. Items are by donation unless otherwise marked. All proceeds go to library programming
URL:https://humboldt.ca/event/spring-book-sale-begins/
LOCATION:Reid-Thompson Public Library\, Humboldt\, Saskatchewan\, Canada
ATTACH;FMTTYPE=image/png:https://humboldt.ca/wp-content/uploads/2026/03/Spring-Book-Sale-Poster.png
ORGANIZER;CN="Reid-Thomspon Public Library":MAILTO:humcirc@wapitilibrary.ca
END:VEVENT
BEGIN:VEVENT
DTSTART;TZID=America/Regina:20260314T130000
DTEND;TZID=America/Regina:20260314T150000
DTSTAMP:20260423T011337
CREATED:20260304T194004Z
LAST-MODIFIED:20260304T222318Z
UID:33088-1773493200-1773500400@humboldt.ca
SUMMARY:The Nostalgiacs: Musical Fundraiser
DESCRIPTION:The Nostalgiacs will be playing some of their music to kick off the library’s Spring Book Sale and raise funds for library programming! Enjoy tunes and find some new books to take home!
URL:https://humboldt.ca/event/the-nostalgiacs-musical-fundraiser/
LOCATION:Reid-Thompson Public Library\, Humboldt\, Saskatchewan\, Canada
ATTACH;FMTTYPE=image/png:https://humboldt.ca/wp-content/uploads/2026/03/The-Nostalgiacs-Musical-Fundraiser-Poster.png
ORGANIZER;CN="Reid-Thomspon Public Library":MAILTO:humcirc@wapitilibrary.ca
END:VEVENT
BEGIN:VEVENT
DTSTART;TZID=America/Regina:20260314T133000
DTEND;TZID=America/Regina:20260314T150000
DTSTAMP:20260423T011337
CREATED:20260212T161702Z
LAST-MODIFIED:20260212T161702Z
UID:32949-1773495000-1773500400@humboldt.ca
SUMMARY:Common Ground: Artist Talk and Demo with Cindy Hoppe and Diane LaRouche Ellard
DESCRIPTION:Meet artists Cindy Hoppe and Diane LaRouche Ellard and get a demonstration of how they create their works in Common Ground\, the latest exhibit at the Humboldt and District Gallery.
URL:https://humboldt.ca/event/common-ground-artist-talk-and-demo-with-cindy-hoppe-and-diane-larouche-ellard/
LOCATION:Humboldt and District Gallery
ATTACH;FMTTYPE=image/jpeg:https://humboldt.ca/wp-content/uploads/2026/02/DH-Common-Ground-display-until-March-15.jpg
END:VEVENT
BEGIN:VEVENT
DTSTART;TZID=America/Regina:20260314T170000
DTEND;TZID=America/Regina:20260314T220000
DTSTAMP:20260423T011337
CREATED:20260226T211044Z
LAST-MODIFIED:20260226T211044Z
UID:33026-1773507600-1773525600@humboldt.ca
SUMMARY:St. Patrick's Day Celebration
DESCRIPTION:Stew Supper: 5-7 pm\, live music: 7-10 p.m. Supper tickets available in the Legion Clubroom. Green beer\, special Irish rinks and Live Celtic Band – The Horses Mouth
URL:https://humboldt.ca/event/st-patricks-day-celebration/
LOCATION:Humboldt Legion Clubroom\, 324 Main St\, Humboldt\, Saskatchewan\, S0K 2A0\, Canada
ATTACH;FMTTYPE=image/jpeg:https://humboldt.ca/wp-content/uploads/2026/02/St.-Patricks-Day-at-Legion-March-14.jpg
END:VEVENT
BEGIN:VEVENT
DTSTART;TZID=America/Regina:20260314T190000
DTEND;TZID=America/Regina:20260314T203000
DTSTAMP:20260423T011337
CREATED:20260225T160931Z
LAST-MODIFIED:20260225T160931Z
UID:33005-1773514800-1773520200@humboldt.ca
SUMMARY:PIE Day Variety Show at Westminster!
DESCRIPTION: Celebrate National Affirming Day with Westminster United Church at the annual PIE Day Variety Show. PIE Day celebrates the Public\, Intentional\, and Explicit acceptance of everyone! Enjoy free pie and free admission to the live variety show\, featuring this year’s headliner\, Saskatoon’s Drag King Stony Mac and a plethora of local talent! Also\, don’t miss the live celebrity pie auction!
URL:https://humboldt.ca/event/pie-day-variety-show-at-westminster/
LOCATION:Westminster United Church\, Humboldt\, Saskatchewan\, Canada
ATTACH;FMTTYPE=image/jpeg:https://humboldt.ca/wp-content/uploads/2026/02/Pie-poster-2.jpg
ORGANIZER;CN="Westminster United Church":MAILTO:westminsteruc@sasktel.net
END:VEVENT
BEGIN:VEVENT
DTSTART;TZID=America/Regina:20260314T193000
DTEND;TZID=America/Regina:20260314T213000
DTSTAMP:20260423T011337
CREATED:20260109T172746Z
LAST-MODIFIED:20260109T172746Z
UID:32486-1773516600-1773523800@humboldt.ca
SUMMARY:Humboldt Broncos vs. Warman Wolverines
DESCRIPTION:
URL:https://humboldt.ca/event/humboldt-broncos-vs-warman-wolverines-2/
LOCATION:Uniplex – Elgar Petersen Arena\, 619 17th Street\, Humboldt\, Saskatchewan\, S0K 2A0\, Canada
END:VEVENT
BEGIN:VEVENT
DTSTART;TZID=America/Regina:20260316T110000
DTEND;TZID=America/Regina:20260316T120000
DTSTAMP:20260423T011337
CREATED:20260305T150824Z
LAST-MODIFIED:20260305T150824Z
UID:33128-1773658800-1773662400@humboldt.ca
SUMMARY:Size Small Preschool Storytime
DESCRIPTION:Foster a love of interactive stories and songs with Miss Maddie and her puppets!
URL:https://humboldt.ca/event/size-small-preschool-storytime-2/
LOCATION:Reid-Thompson Public Library\, Humboldt\, Saskatchewan\, Canada
ATTACH;FMTTYPE=image/png:https://humboldt.ca/wp-content/uploads/2026/03/Size-Small.png
ORGANIZER;CN="Reid-Thomspon Public Library":MAILTO:humcirc@wapitilibrary.ca
END:VEVENT
BEGIN:VEVENT
DTSTART;TZID=America/Regina:20260316T140000
DTEND;TZID=America/Regina:20260316T150000
DTSTAMP:20260423T011337
CREATED:20260305T151506Z
LAST-MODIFIED:20260305T151506Z
UID:33137-1773669600-1773673200@humboldt.ca
SUMMARY:Mini-Sunshine Babytime
DESCRIPTION:Foster early literacy in your baby with simple stories\, songs\, tickles and bounces! Miss Maddie might even bring a puppet or two
URL:https://humboldt.ca/event/mini-sunshine-babytime-2/
LOCATION:Reid-Thompson Public Library\, Humboldt\, Saskatchewan\, Canada
ATTACH;FMTTYPE=image/png:https://humboldt.ca/wp-content/uploads/2026/03/Mini-Sunshine.png
ORGANIZER;CN="Reid-Thomspon Public Library":MAILTO:humcirc@wapitilibrary.ca
END:VEVENT
BEGIN:VEVENT
DTSTART;TZID=America/Regina:20260317T100000
DTEND;TZID=America/Regina:20260317T113000
DTSTAMP:20260423T011337
CREATED:20260112T213213Z
LAST-MODIFIED:20260112T213213Z
UID:32509-1773741600-1773747000@humboldt.ca
SUMMARY:Conversation & Refreshment
DESCRIPTION:Prairie Gateway Settlement Services welcomes everyone for Conversation and Refreshments every Tuesday from 10 a.m. to 11:30 a.m.
URL:https://humboldt.ca/event/conversation-refreshment-22/
LOCATION:Prairie Gateway Settlement Services\, 606 9th Street
ORGANIZER;CN="Prairie Gateway Settlement Services":MAILTO:admin@thehrnc.com
END:VEVENT
BEGIN:VEVENT
DTSTART;TZID=America/Regina:20260318T100000
DTEND;TZID=America/Regina:20260318T110000
DTSTAMP:20260423T011337
CREATED:20260225T160643Z
LAST-MODIFIED:20260225T162043Z
UID:33002-1773828000-1773831600@humboldt.ca
SUMMARY:From Awareness to Action
DESCRIPTION:The Humboldt & District Gallery is pleased to partner with Prairie Central in welcoming Malvina Rapko and Zane Arnott for ‘From Awareness to Action: Moving Beyond Tokenism in Cultural Engagement’. This conversation offers practical tools to move beyond tokenism and avoid cultural appropriation\, supporting respectful\, authentic cultural engagement rooted in appreciation and relationship-building. 
URL:https://humboldt.ca/event/from-awareness-to-action/
LOCATION:Humboldt and District Museum\, 602 Main Street\, Humboldt\, Saskatchewan
ATTACH;FMTTYPE=image/jpeg:https://humboldt.ca/wp-content/uploads/2026/02/IDERD-2026-DH-until-Mar.-19.jpg
END:VEVENT
BEGIN:VEVENT
DTSTART;TZID=America/Regina:20260318T180000
DTEND;TZID=America/Regina:20260318T190000
DTSTAMP:20260423T011337
CREATED:20260304T193830Z
LAST-MODIFIED:20260311T211733Z
UID:33086-1773856800-1773860400@humboldt.ca
SUMMARY:Beginner Friendly Relaxing Meditation Class
DESCRIPTION:Bring your water\, an exercise mat and whatever else you need to be comfortable on the floor and get some much needed relaxation in!
URL:https://humboldt.ca/event/beginner-friendly-relaxing-meditation-class-2/
LOCATION:Reid-Thompson Public Library\, Humboldt\, Saskatchewan\, Canada
ORGANIZER;CN="Reid-Thomspon Public Library":MAILTO:humcirc@wapitilibrary.ca
END:VEVENT
BEGIN:VEVENT
DTSTART;TZID=America/Regina:20260318T183000
DTEND;TZID=America/Regina:20260318T193000
DTSTAMP:20260423T011337
CREATED:20260225T161137Z
LAST-MODIFIED:20260225T161137Z
UID:33008-1773858600-1773862200@humboldt.ca
SUMMARY:Presentation on Human Trafficking
DESCRIPTION:An informal\, open information session\, designed to help the community better understand what human trafficking really looks like\, without fear\, judgement or stigma. Whether you’re a parent\, educator\, service provider\, or simply someone who wants to learn more\, you are welcome to attend!
URL:https://humboldt.ca/event/presentation-on-human-trafficking/
LOCATION:St. Augustine Parish Hall\, 809 10th Street\, Humboldt\, SK\, S0K 2A0\, Canada
ATTACH;FMTTYPE=image/jpeg:https://humboldt.ca/wp-content/uploads/2026/02/IMG_3781.jpg
END:VEVENT
END:VCALENDAR